{
 "currentVersion": 11.3,
 "serviceDescription": "DGS/COAL_Middle_Kittanning_Thickness",
 "name": "DGS/COAL_Middle_Kittanning_Thickness",
 "description": "",
 "extent": {
  "xmin": 1863779.7787513882,
  "ymin": 146871.8281250554,
  "xmax": 2518179.778751388,
  "ymax": 1115971.8281250554,
  "spatialReference": {
   "wkid": 102723,
   "latestWkid": 3735
  }
 },
 "initialExtent": {
  "xmin": 1863779.7787513882,
  "ymin": 146871.8281250554,
  "xmax": 2518179.778751388,
  "ymax": 1115971.8281250554,
  "spatialReference": {
   "wkid": 102723,
   "latestWkid": 3735
  }
 },
 "fullExtent": {
  "xmin": 1863779.7787513882,
  "ymin": 146871.8281250554,
  "xmax": 2518179.778751388,
  "ymax": 1115971.8281250554,
  "spatialReference": {
   "wkid": 102723,
   "latestWkid": 3735
  }
 },
 "sortableFields": "",
 "bandCount": 1,
 "pixelType": "F32",
 "minValues": [
  -3.378140449523926
 ],
 "maxValues": [
  151.5758514404297
 ],
 "meanValues": [
  28.769149404406505
 ],
 "stdvValues": [
  13.223455577076317
 ],
 "hasMultidimensions": false,
 "pixelSizeX": 25,
 "pixelSizeY": 25,
 "meanPixelSize": 7.620015240030481,
 "datasetFormat": "SDR",
 "uncompressedSize": 4058745856,
 "blockWidth": 128,
 "blockHeight": 128,
 "compressionType": "LZ77",
 "bandNames": [
  "Band_1"
 ],
 "allowCopy": true,
 "allowAnalysis": true,
 "itemAccess": false,
 "inspectionCapabilities": "",
 "minPixelSize": 0,
 "maxPixelSize": 0,
 "copyrightText": "",
 "serviceDataType": "esriImageServiceDataTypeGeneric",
 "serviceSourceType": "esriImageServiceSourceTypeDataset",
 "objectIdField": "",
 "fields": [],
 "capabilities": "Image,Metadata,Mensuration",
 "defaultMosaicMethod": "Center",
 "allowedMosaicMethods": "",
 "sortField": "",
 "sortValue": null,
 "sortAscending": true,
 "mosaicOperator": "First",
 "defaultCompressionQuality": 75,
 "defaultResamplingMethod": "Bilinear",
 "maxImageHeight": 4100,
 "maxImageWidth": 15000,
 "allowRasterFunction": true,
 "rasterFunctionInfos": [
  {
   "name": "None",
   "description": "",
   "help": ""
  }
 ],
 "rasterTypeInfos": [
  {
   "name": "Raster Dataset",
   "description": "Supports all ArcGIS Raster Datasets",
   "help": ""
  }
 ],
 "mensurationCapabilities": "Basic",
 "hasHistograms": true,
 "hasColormap": false,
 "hasRasterAttributeTable": false,
 "minScale": 0,
 "maxScale": 0,
 "exportTilesAllowed": false,
 "supportsStatistics": false,
 "supportsAdvancedQueries": false,
 "editFieldsInfo": null,
 "ownershipBasedAccessControlForRasters": null,
 "allowComputeTiePoints": false,
 "useStandardizedQueries": true,
 "advancedQueryCapabilities": {
  "useStandardizedQueries": true,
  "supportsStatistics": false,
  "supportsOrderBy": false,
  "supportsDistinct": false,
  "supportsPagination": false
 },
 "spatialReference": {
  "wkid": 102723,
  "latestWkid": 3735
 }
}
