{ "currentVersion": 11.3, "serviceDescription": "
This is a map of the base elevation of the Pittsburgh (No.8) Coal Bed created by the Ohio Geological Survey in 2015. This raster was created with a point GIS file containing Pittsburgh base elevations and thicknesses. The public data points file that this map was derived from is called \"Public_Pittsburgh_Points\". For more information please see the Ohio Geological Survey Publication \u201c<\/SPAN>Evaluation Of Available Resources Of The Pittsburgh (No. 8) Coal Bed In Ohio<\/SPAN><\/SPAN>\u201d. Raster cell values represent the base elevation of the coal bed in feet. This raster was created with Natural Neighbor interpolation. Cell size is 100ft.<\/SPAN><\/P> <\/P> <\/P><\/DIV><\/DIV><\/DIV>",
"name": "DGS/COAL_Pittsburgh_Elev",
"description": " This is a map of the base elevation of the Pittsburgh (No.8) Coal Bed created by the Ohio Geological Survey in 2015. This raster was created with a point GIS file containing Pittsburgh base elevations and thicknesses. The public data points file that this map was derived from is called \"Public_Pittsburgh_Points\". For more information please see the Ohio Geological Survey Publication \u201c<\/SPAN>Evaluation Of Available Resources Of The Pittsburgh (No. 8) Coal Bed In Ohio<\/SPAN><\/SPAN>\u201d. Raster cell values represent the base elevation of the coal bed in feet. This raster was created with Natural Neighbor interpolation. Cell size is 100ft.<\/SPAN><\/P> <\/P> <\/P><\/DIV><\/DIV><\/DIV>",
"extent": {
"xmin": 1953159.2720361948,
"ymin": 146665.43875433717,
"xmax": 2518859.272036195,
"ymax": 965565.4387543371,
"spatialReference": {
"wkid": 102723,
"latestWkid": 3735
}
},
"initialExtent": {
"xmin": 1953159.2720361948,
"ymin": 146665.43875433717,
"xmax": 2518859.272036195,
"ymax": 965565.4387543371,
"spatialReference": {
"wkid": 102723,
"latestWkid": 3735
}
},
"fullExtent": {
"xmin": 1953159.2720361948,
"ymin": 146665.43875433717,
"xmax": 2518859.272036195,
"ymax": 965565.4387543371,
"spatialReference": {
"wkid": 102723,
"latestWkid": 3735
}
},
"sortableFields": "",
"bandCount": 1,
"pixelType": "F32",
"minValues": [
183.60386657714844
],
"maxValues": [
1311.71044921875
],
"meanValues": [
737.4629987912881
],
"stdvValues": [
193.19014600641918
],
"hasMultidimensions": false,
"pixelSizeX": 100,
"pixelSizeY": 100,
"meanPixelSize": 30.480060960121925,
"datasetFormat": "SDR",
"uncompressedSize": 185300692,
"blockWidth": 128,
"blockHeight": 128,
"compressionType": "NONE",
"bandNames": [
"Band_1"
],
"allowCopy": true,
"allowAnalysis": true,
"itemAccess": false,
"inspectionCapabilities": "",
"minPixelSize": 0,
"maxPixelSize": 0,
"copyrightText": "This is a product of the Ohio Department of Natural Resources, Division of Geological Survey. Production of this map is based on funding by the Ohio Coal Development Office.",
"serviceDataType": "esriImageServiceDataTypeGeneric",
"serviceSourceType": "esriImageServiceSourceTypeDataset",
"objectIdField": "",
"fields": [],
"capabilities": "Image,Metadata,Mensuration",
"defaultMosaicMethod": "Center",
"allowedMosaicMethods": "",
"sortField": "",
"sortValue": null,
"sortAscending": true,
"mosaicOperator": "First",
"defaultCompressionQuality": 75,
"defaultResamplingMethod": "Bilinear",
"maxImageHeight": 4100,
"maxImageWidth": 15000,
"allowRasterFunction": true,
"rasterFunctionInfos": [
{
"name": "None",
"description": "",
"help": ""
}
],
"rasterTypeInfos": [
{
"name": "Raster Dataset",
"description": "Supports all ArcGIS Raster Datasets",
"help": ""
}
],
"mensurationCapabilities": "Basic",
"hasHistograms": true,
"hasColormap": false,
"hasRasterAttributeTable": false,
"minScale": 0,
"maxScale": 0,
"exportTilesAllowed": false,
"supportsStatistics": false,
"supportsAdvancedQueries": false,
"editFieldsInfo": null,
"ownershipBasedAccessControlForRasters": null,
"allowComputeTiePoints": false,
"useStandardizedQueries": true,
"advancedQueryCapabilities": {
"useStandardizedQueries": true,
"supportsStatistics": false,
"supportsOrderBy": false,
"supportsDistinct": false,
"supportsPagination": false
},
"spatialReference": {
"wkid": 102723,
"latestWkid": 3735
}
}