{
 "currentVersion": 11.3,
 "serviceDescription": "DGS/Drift_Thickness",
 "name": "DGS/Drift_Thickness",
 "description": "",
 "extent": {
  "xmin": 1310261.1249999998,
  "ymin": 146871.8281250554,
  "xmax": 2518132.7250048574,
  "ymax": 1455136.9281303168,
  "spatialReference": {
   "wkid": 102723,
   "latestWkid": 3735
  }
 },
 "initialExtent": {
  "xmin": 1310261.1249999998,
  "ymin": 146871.8281250554,
  "xmax": 2518132.7250048574,
  "ymax": 1455136.9281303168,
  "spatialReference": {
   "wkid": 102723,
   "latestWkid": 3735
  }
 },
 "fullExtent": {
  "xmin": 1310261.1249999998,
  "ymin": 146871.8281250554,
  "xmax": 2518132.7250048574,
  "ymax": 1455136.9281303168,
  "spatialReference": {
   "wkid": 102723,
   "latestWkid": 3735
  }
 },
 "sortableFields": "",
 "bandCount": 1,
 "pixelType": "S16",
 "minValues": [
  0
 ],
 "maxValues": [
  723
 ],
 "meanValues": [
  77.07900424454523
 ],
 "stdvValues": [
  80.60829122053362
 ],
 "hasMultidimensions": false,
 "pixelSizeX": 196.85000000079165,
 "pixelSizeY": 196.85000000079165,
 "meanPixelSize": 60.0000000002413,
 "datasetFormat": "FGDBR",
 "uncompressedSize": 81559712,
 "blockWidth": 128,
 "blockHeight": 128,
 "compressionType": "NONE",
 "bandNames": [
  "Band_1"
 ],
 "allowCopy": true,
 "allowAnalysis": true,
 "itemAccess": false,
 "inspectionCapabilities": "",
 "minPixelSize": 0,
 "maxPixelSize": 0,
 "copyrightText": "",
 "serviceDataType": "esriImageServiceDataTypeGeneric",
 "serviceSourceType": "esriImageServiceSourceTypeDataset",
 "objectIdField": "",
 "fields": [],
 "capabilities": "Image,Metadata,Mensuration",
 "defaultMosaicMethod": "Center",
 "allowedMosaicMethods": "",
 "sortField": "",
 "sortValue": null,
 "sortAscending": true,
 "mosaicOperator": "First",
 "defaultCompressionQuality": 75,
 "defaultResamplingMethod": "Bilinear",
 "maxImageHeight": 4100,
 "maxImageWidth": 15000,
 "allowRasterFunction": true,
 "rasterFunctionInfos": [
  {
   "name": "None",
   "description": "",
   "help": ""
  }
 ],
 "rasterTypeInfos": [
  {
   "name": "Raster Dataset",
   "description": "Supports all ArcGIS Raster Datasets",
   "help": ""
  }
 ],
 "mensurationCapabilities": "Basic",
 "hasHistograms": true,
 "hasColormap": false,
 "hasRasterAttributeTable": false,
 "minScale": 0,
 "maxScale": 0,
 "exportTilesAllowed": false,
 "supportsStatistics": false,
 "supportsAdvancedQueries": false,
 "editFieldsInfo": null,
 "ownershipBasedAccessControlForRasters": null,
 "allowComputeTiePoints": false,
 "useStandardizedQueries": true,
 "advancedQueryCapabilities": {
  "useStandardizedQueries": true,
  "supportsStatistics": false,
  "supportsOrderBy": false,
  "supportsDistinct": false,
  "supportsPagination": false
 },
 "spatialReference": {
  "wkid": 102723,
  "latestWkid": 3735
 }
}
