{ "currentVersion": 11.3, "serviceDescription": "
The grid data layer of the elevation of the Lower Freeport coal bed. The grid interval is 90 meters<\/SPAN><\/P><\/DIV><\/DIV><\/DIV>",
"name": "DGS/frpcl_ele",
"description": " The grid data layer of the elevation of the Lower Freeport coal bed. The grid interval is 90 meters<\/SPAN><\/P><\/DIV><\/DIV><\/DIV>",
"extent": {
"xmin": 1882520.8388992723,
"ymin": 145709.47895932128,
"xmax": 2532125.8388992725,
"ymax": 1084979.2539593214,
"spatialReference": {
"wkid": 102723,
"latestWkid": 3735
}
},
"initialExtent": {
"xmin": 1882520.8388992723,
"ymin": 145709.47895932128,
"xmax": 2532125.8388992725,
"ymax": 1084979.2539593214,
"spatialReference": {
"wkid": 102723,
"latestWkid": 3735
}
},
"fullExtent": {
"xmin": 1882520.8388992723,
"ymin": 145709.47895932128,
"xmax": 2532125.8388992725,
"ymax": 1084979.2539593214,
"spatialReference": {
"wkid": 102723,
"latestWkid": 3735
}
},
"sortableFields": "",
"bandCount": 1,
"pixelType": "F32",
"minValues": [
-369.5843200683594
],
"maxValues": [
1300.523681640625
],
"meanValues": [
483.74407788414226
],
"stdvValues": [
367.0365881882494
],
"hasMultidimensions": false,
"pixelSizeX": 295.2750000000001,
"pixelSizeY": 295.27500000000003,
"meanPixelSize": 90.00000000000004,
"datasetFormat": "SDR",
"uncompressedSize": 27992800,
"blockWidth": 128,
"blockHeight": 128,
"compressionType": "LZ77",
"bandNames": [
"Band_1"
],
"allowCopy": true,
"allowAnalysis": true,
"itemAccess": false,
"inspectionCapabilities": "",
"minPixelSize": 0,
"maxPixelSize": 0,
"copyrightText": "Funding was provided by the U.S. Department of Energy, through the Midcontinent Interactive Digital Carbon Atlas and Relational dataBase (MIDCARB) project.",
"serviceDataType": "esriImageServiceDataTypeGeneric",
"serviceSourceType": "esriImageServiceSourceTypeDataset",
"objectIdField": "",
"fields": [],
"capabilities": "Image,Metadata,Mensuration",
"defaultMosaicMethod": "Center",
"allowedMosaicMethods": "",
"sortField": "",
"sortValue": null,
"sortAscending": true,
"mosaicOperator": "First",
"defaultCompressionQuality": 75,
"defaultResamplingMethod": "Bilinear",
"maxImageHeight": 4100,
"maxImageWidth": 15000,
"allowRasterFunction": true,
"rasterFunctionInfos": [
{
"name": "None",
"description": "",
"help": ""
}
],
"rasterTypeInfos": [
{
"name": "Raster Dataset",
"description": "Supports all ArcGIS Raster Datasets",
"help": ""
}
],
"mensurationCapabilities": "Basic",
"hasHistograms": true,
"hasColormap": false,
"hasRasterAttributeTable": false,
"minScale": 0,
"maxScale": 0,
"exportTilesAllowed": false,
"supportsStatistics": false,
"supportsAdvancedQueries": false,
"editFieldsInfo": null,
"ownershipBasedAccessControlForRasters": null,
"allowComputeTiePoints": false,
"useStandardizedQueries": true,
"advancedQueryCapabilities": {
"useStandardizedQueries": true,
"supportsStatistics": false,
"supportsOrderBy": false,
"supportsDistinct": false,
"supportsPagination": false
},
"spatialReference": {
"wkid": 102723,
"latestWkid": 3735
}
}