{ "currentVersion": 11.3, "serviceDescription": "
The data layer of the elevation of the Upper Freeport coal bed.<\/SPAN><\/P><\/DIV><\/DIV><\/DIV>",
"name": "DGS/frpcu_ele",
"description": " The data layer of the elevation of the Upper Freeport coal bed.<\/SPAN><\/P><\/DIV><\/DIV><\/DIV>",
"extent": {
"xmin": 1897331.193565592,
"ymin": 147039.94469144603,
"xmax": 2531286.618565592,
"ymax": 1074203.4446914461,
"spatialReference": {
"wkid": 102723,
"latestWkid": 3735
}
},
"initialExtent": {
"xmin": 1897331.193565592,
"ymin": 147039.94469144603,
"xmax": 2531286.618565592,
"ymax": 1074203.4446914461,
"spatialReference": {
"wkid": 102723,
"latestWkid": 3735
}
},
"fullExtent": {
"xmin": 1897331.193565592,
"ymin": 147039.94469144603,
"xmax": 2531286.618565592,
"ymax": 1074203.4446914461,
"spatialReference": {
"wkid": 102723,
"latestWkid": 3735
}
},
"sortableFields": "",
"bandCount": 1,
"pixelType": "F32",
"minValues": [
-359.7830505371094
],
"maxValues": [
1300
],
"meanValues": [
511.8595434317804
],
"stdvValues": [
346.85026638120513
],
"hasMultidimensions": false,
"pixelSizeX": 295.27500000000003,
"pixelSizeY": 295.27500000000003,
"meanPixelSize": 90.00000000000003,
"datasetFormat": "SDR",
"uncompressedSize": 26966320,
"blockWidth": 128,
"blockHeight": 128,
"compressionType": "LZ77",
"bandNames": [
"Band_1"
],
"allowCopy": true,
"allowAnalysis": true,
"itemAccess": false,
"inspectionCapabilities": "",
"minPixelSize": 0,
"maxPixelSize": 0,
"copyrightText": "Prepared in cooperation with the United States Geological Survey under Cooperative Agreement-U.S. Department of Interior 98-HQ-AG-2014",
"serviceDataType": "esriImageServiceDataTypeGeneric",
"serviceSourceType": "esriImageServiceSourceTypeDataset",
"objectIdField": "",
"fields": [],
"capabilities": "Image,Metadata,Mensuration",
"defaultMosaicMethod": "Center",
"allowedMosaicMethods": "",
"sortField": "",
"sortValue": null,
"sortAscending": true,
"mosaicOperator": "First",
"defaultCompressionQuality": 75,
"defaultResamplingMethod": "Bilinear",
"maxImageHeight": 4100,
"maxImageWidth": 15000,
"allowRasterFunction": true,
"rasterFunctionInfos": [
{
"name": "None",
"description": "",
"help": ""
}
],
"rasterTypeInfos": [
{
"name": "Raster Dataset",
"description": "Supports all ArcGIS Raster Datasets",
"help": ""
}
],
"mensurationCapabilities": "Basic",
"hasHistograms": true,
"hasColormap": false,
"hasRasterAttributeTable": false,
"minScale": 0,
"maxScale": 0,
"exportTilesAllowed": false,
"supportsStatistics": false,
"supportsAdvancedQueries": false,
"editFieldsInfo": null,
"ownershipBasedAccessControlForRasters": null,
"allowComputeTiePoints": false,
"useStandardizedQueries": true,
"advancedQueryCapabilities": {
"useStandardizedQueries": true,
"supportsStatistics": false,
"supportsOrderBy": false,
"supportsDistinct": false,
"supportsPagination": false
},
"spatialReference": {
"wkid": 102723,
"latestWkid": 3735
}
}