{ "currentVersion": 11.3, "serviceDescription": "
Elevation surface of the Mississippian-Pennsylvanian unconformity in Ohio.<\/SPAN><\/P><\/DIV><\/DIV><\/DIV>",
"name": "DGS/pnlvb_ele",
"description": " Elevation surface of the Mississippian-Pennsylvanian unconformity in Ohio.<\/SPAN><\/P><\/DIV><\/DIV><\/DIV>",
"extent": {
"xmin": 1814580.0521199577,
"ymin": 145352.43135429733,
"xmax": 2531278.0937866243,
"ymax": 1354011.4313542976,
"spatialReference": {
"wkid": 102723,
"latestWkid": 3735
}
},
"initialExtent": {
"xmin": 1814580.0521199577,
"ymin": 145352.43135429733,
"xmax": 2531278.0937866243,
"ymax": 1354011.4313542976,
"spatialReference": {
"wkid": 102723,
"latestWkid": 3735
}
},
"fullExtent": {
"xmin": 1814580.0521199577,
"ymin": 145352.43135429733,
"xmax": 2531278.0937866243,
"ymax": 1354011.4313542976,
"spatialReference": {
"wkid": 102723,
"latestWkid": 3735
}
},
"sortableFields": "",
"bandCount": 1,
"pixelType": "F32",
"minValues": [
-920.1210327148438
],
"maxValues": [
1420
],
"meanValues": [
331.0898345190078
],
"stdvValues": [
483.40958590539293
],
"hasMultidimensions": false,
"pixelSizeX": 164.04166666666663,
"pixelSizeY": 164.04166666666669,
"meanPixelSize": 50,
"datasetFormat": "SDR",
"uncompressedSize": 128763168,
"blockWidth": 128,
"blockHeight": 128,
"compressionType": "LZ77",
"bandNames": [
"Band_1"
],
"allowCopy": true,
"allowAnalysis": true,
"itemAccess": false,
"inspectionCapabilities": "",
"minPixelSize": 0,
"maxPixelSize": 0,
"copyrightText": "Funding was provided by the U.S. Department of Energy, through the Midcontinent Interactive Digital Carbon Atlas and Relational dataBase (MIDCARB) project.",
"serviceDataType": "esriImageServiceDataTypeGeneric",
"serviceSourceType": "esriImageServiceSourceTypeDataset",
"objectIdField": "",
"fields": [],
"capabilities": "Image,Metadata,Mensuration",
"defaultMosaicMethod": "Center",
"allowedMosaicMethods": "",
"sortField": "",
"sortValue": null,
"sortAscending": true,
"mosaicOperator": "First",
"defaultCompressionQuality": 75,
"defaultResamplingMethod": "Bilinear",
"maxImageHeight": 4100,
"maxImageWidth": 15000,
"allowRasterFunction": true,
"rasterFunctionInfos": [
{
"name": "None",
"description": "",
"help": ""
}
],
"rasterTypeInfos": [
{
"name": "Raster Dataset",
"description": "Supports all ArcGIS Raster Datasets",
"help": ""
}
],
"mensurationCapabilities": "Basic",
"hasHistograms": true,
"hasColormap": false,
"hasRasterAttributeTable": false,
"minScale": 0,
"maxScale": 0,
"exportTilesAllowed": false,
"supportsStatistics": false,
"supportsAdvancedQueries": false,
"editFieldsInfo": null,
"ownershipBasedAccessControlForRasters": null,
"allowComputeTiePoints": false,
"useStandardizedQueries": true,
"advancedQueryCapabilities": {
"useStandardizedQueries": true,
"supportsStatistics": false,
"supportsOrderBy": false,
"supportsDistinct": false,
"supportsPagination": false
},
"spatialReference": {
"wkid": 102723,
"latestWkid": 3735
}
}