{
 "currentVersion": 11.3,
 "serviceDescription": "The 2006-2008 OSIP bare-earth Digital Elevation Model (DEM) was derived from digital LiDAR data was collected during the months of March and May (leaf-off conditions). The DEM data covers the entire land area of Ohio. The DEM is delivered in county sets, consisting of 5,000' x 5,000' size tiles that correspond to the tile sizes for the OSIP 1FT imagery products. Where the State borders other states (land only), the entire border of the State is buffered by at least 1,000-feet. Along the Lake Erie Shoreline ortho coverage is buffered beyond the shoreline a minimum distance of 2,500-feet. The file naming convention is as follows: Nxxxxyyy = 5,000' x 5,000' Tiles located in the Ohio State Plane Coordinate System (North Zone). Sxxxxyyy = 5,000' x 5,000' Tiles located in the Ohio State Plane Coordinate System (South Zone). Please note that xxxx and yyy represent the easting and northing coordinates (respectively) in state plane feet, The naming convention for each tile is based upon (the bottom most-left pixel). The DEM was provided in ESRI ArcINFO GRID raster and ASCII grid formats, with only the LiDAR in LAS Format containing the above ground LiDAR features. Ownership of the data products resides with the State of Ohio. Orthophotography and ancillary data products produced through this contract are public domain data. The LiDAR used to generate the DEM was acquired Statewide to provide a solid and very accurate base to use during the image rectification process. This same LiDAR can be supplemented with 3D breaklines to generate 2-foot and/or 4/5-foot contours. The average post spacing between LiDAR points is 7-feet. The flying altitude was 7,300-feet AMT, with the targeted flying speed at 170 knots.",
 "name": "OH_DEM_test",
 "description": "The 2006-2008 OSIP bare-earth Digital Elevation Model (DEM) was derived from digital LiDAR data was collected during the months of March and May (leaf-off conditions). The DEM data covers the entire land area of Ohio. The DEM is delivered in county sets, consisting of 5,000' x 5,000' size tiles that correspond to the tile sizes for the OSIP 1FT imagery products. Where the State borders other states (land only), the entire border of the State is buffered by at least 1,000-feet. Along the Lake Erie Shoreline ortho coverage is buffered beyond the shoreline a minimum distance of 2,500-feet. The file naming convention is as follows: Nxxxxyyy = 5,000' x 5,000' Tiles located in the Ohio State Plane Coordinate System (North Zone). Sxxxxyyy = 5,000' x 5,000' Tiles located in the Ohio State Plane Coordinate System (South Zone). Please note that xxxx and yyy represent the easting and northing coordinates (respectively) in state plane feet, The naming convention for each tile is based upon (the bottom most-left pixel). The DEM was provided in ESRI ArcINFO GRID raster and ASCII grid formats, with only the LiDAR in LAS Format containing the above ground LiDAR features. Ownership of the data products resides with the State of Ohio. Orthophotography and ancillary data products produced through this contract are public domain data. The LiDAR used to generate the DEM was acquired Statewide to provide a solid and very accurate base to use during the image rectification process. This same LiDAR can be supplemented with 3D breaklines to generate 2-foot and/or 4/5-foot contours. The average post spacing between LiDAR points is 7-feet. The flying altitude was 7,300-feet AMT, with the targeted flying speed at 170 knots.",
 "extent": {
  "xmin": 1310000,
  "ymin": 145000,
  "xmax": 2520507.5,
  "ymax": 1462300,
  "spatialReference": {
   "wkid": 3754,
   "latestWkid": 3754
  }
 },
 "initialExtent": {
  "xmin": 1310000,
  "ymin": 145000,
  "xmax": 2520507.5,
  "ymax": 1462300,
  "spatialReference": {
   "wkid": 3754,
   "latestWkid": 3754
  }
 },
 "fullExtent": {
  "xmin": 1310000,
  "ymin": 145000,
  "xmax": 2520507.5,
  "ymax": 1462300,
  "spatialReference": {
   "wkid": 3754,
   "latestWkid": 3754
  }
 },
 "sortableFields": "",
 "bandCount": 1,
 "pixelType": "F32",
 "minValues": [
  -520.0599975585938
 ],
 "maxValues": [
  2231.949951171875
 ],
 "meanValues": [
  918.2616172755887
 ],
 "stdvValues": [
  173.29354113999108
 ],
 "hasMultidimensions": false,
 "pixelSizeX": 2.5,
 "pixelSizeY": 2.5,
 "meanPixelSize": 0.7620015240030481,
 "datasetFormat": "FGDBR",
 "uncompressedSize": 1020544979040,
 "blockWidth": 128,
 "blockHeight": 128,
 "compressionType": "LZ77",
 "bandNames": [
  "Band_1"
 ],
 "allowCopy": true,
 "allowAnalysis": true,
 "itemAccess": false,
 "inspectionCapabilities": "",
 "minPixelSize": 0,
 "maxPixelSize": 0,
 "copyrightText": "This data set was acquired for the State of Ohio by Woolpert Inc. Subcontractors for LiDAR data acquisition included Horizons, Inc.",
 "serviceDataType": "esriImageServiceDataTypeGeneric",
 "serviceSourceType": "esriImageServiceSourceTypeDataset",
 "objectIdField": "",
 "fields": [],
 "capabilities": "Image,Metadata,Mensuration",
 "defaultMosaicMethod": "Center",
 "allowedMosaicMethods": "",
 "sortField": "",
 "sortValue": null,
 "sortAscending": true,
 "mosaicOperator": "First",
 "defaultCompressionQuality": 75,
 "defaultResamplingMethod": "Bilinear",
 "maxImageHeight": 4100,
 "maxImageWidth": 15000,
 "allowRasterFunction": true,
 "rasterFunctionInfos": [
  {
   "name": "None",
   "description": "",
   "help": ""
  }
 ],
 "rasterTypeInfos": [
  {
   "name": "Raster Dataset",
   "description": "Supports all ArcGIS Raster Datasets",
   "help": ""
  }
 ],
 "mensurationCapabilities": "Basic",
 "hasHistograms": true,
 "hasColormap": false,
 "hasRasterAttributeTable": false,
 "minScale": 0,
 "maxScale": 0,
 "exportTilesAllowed": false,
 "supportsStatistics": false,
 "supportsAdvancedQueries": false,
 "editFieldsInfo": null,
 "ownershipBasedAccessControlForRasters": null,
 "allowComputeTiePoints": false,
 "useStandardizedQueries": true,
 "advancedQueryCapabilities": {
  "useStandardizedQueries": true,
  "supportsStatistics": false,
  "supportsOrderBy": false,
  "supportsDistinct": false,
  "supportsPagination": false
 },
 "spatialReference": {
  "wkid": 3754,
  "latestWkid": 3754
 }
}
