{ "currentVersion": 11.1, "serviceDescription": "
Provide a Raster Mosaic of the Historic Maps Produced by USGS, The 7.5 minute topographic maps were produced at scale of 1:24,000. The date ranges for the maps used for this mosaic are 1951 - 2002. Maps were downloaded from the USGS Topo View site in PDF format and then exported out to TIFF and georeferenced.<\/span><\/p> The best known USGS maps are those of the 7.5-minute, 1:24,000-scale quadrangle series. A scale of 1:25,000 is used for maps based on metric units (1 centimeter = 0.25 kilometer). The area portrayed on each sheet ranges from 64 square miles at latitude 30 degrees north to 49 square miles at latitude 49 degrees north.<\/span><\/p> A scale of 1:24,000 allows considerable detail to be shown in the quadrangle areas. It takes about 57,000 maps to cover the conterminous 48 States, Hawaii, and territories.<\/span><\/p> The sheet size is about 22 x 27 inches north of latitude 31 degrees and 23 x 27 inches south of that latitude.<\/span><\/p><\/div><\/div><\/div>",
"name": "OIT_Services/USGS_DRG_MOS_24000_IS",
"description": " Provide a Raster Mosaic of the Historic Maps Produced by USGS, The 7.5 minute topographic maps were produced at scale of 1:24,000. The date ranges for the maps used for this mosaic are 1951 - 2002. Maps were downloaded from the USGS Topo View site in PDF format and then exported out to TIFF and georeferenced.<\/span><\/p> The best known USGS maps are those of the 7.5-minute, 1:24,000-scale quadrangle series. A scale of 1:25,000 is used for maps based on metric units (1 centimeter = 0.25 kilometer). The area portrayed on each sheet ranges from 64 square miles at latitude 30 degrees north to 49 square miles at latitude 49 degrees north.<\/span><\/p> A scale of 1:24,000 allows considerable detail to be shown in the quadrangle areas. It takes about 57,000 maps to cover the conterminous 48 States, Hawaii, and territories.<\/span><\/p> The sheet size is about 22 x 27 inches north of latitude 31 degrees and 23 x 27 inches south of that latitude.<\/span><\/p><\/div><\/div><\/div>",
"extent": {
"xmin": -9451095.1693,
"ymin": 4629805.599200003,
"xmax": -8958739.1693,
"ymax": 5162139.599200003,
"spatialReference": {
"wkid": 102100,
"latestWkid": 3857
}
},
"initialExtent": {
"xmin": -9451095.1693,
"ymin": 4629805.599200003,
"xmax": -8958739.1693,
"ymax": 5162139.599200003,
"spatialReference": {
"wkid": 102100,
"latestWkid": 3857
}
},
"fullExtent": {
"xmin": -9451095.1693,
"ymin": 4629805.599200003,
"xmax": -8958739.1693,
"ymax": 5162139.599200003,
"spatialReference": {
"wkid": 102100,
"latestWkid": 3857
}
},
"sortableFields": "MinPS,MaxPS,LowPS,HighPS,CenterX,CenterY,ZOrder,Shape_Length,Shape_Area",
"bandCount": 3,
"pixelType": "U8",
"minValues": [
39,
28,
11
],
"maxValues": [
255,
255,
255
],
"meanValues": [
229.26097986029177,
229.55652608199898,
213.24213761275158
],
"stdvValues": [
17.383779116355974,
19.09451456603695,
29.738498500615755
],
"hasMultidimensions": false,
"pixelSizeX": 2,
"pixelSizeY": 2,
"datasetFormat": "AMD",
"uncompressedSize": 196573379178,
"blockWidth": 2048,
"blockHeight": 256,
"compressionType": "None",
"bandNames": [
"Band_1",
"Band_2",
"Band_3"
],
"allowCopy": true,
"allowAnalysis": true,
"itemAccess": false,
"minPixelSize": 0,
"maxPixelSize": 0,
"copyrightText": "United State Geological Survey (USGS), Department of Natural Resources, Office of Information Technology.",
"serviceDataType": "esriImageServiceDataTypeRGB",
"serviceSourceType": "esriImageServiceSourceTypeMosaicDataset",
"objectIdField": "OBJECTID",
"fields": [
{
"name": "OBJECTID",
"type": "esriFieldTypeOID",
"alias": "OBJECTID",
"domain": null
},
{
"name": "Shape",
"type": "esriFieldTypeGeometry",
"alias": "Shape",
"domain": null
},
{
"name": "Name",
"type": "esriFieldTypeString",
"alias": "Name",
"domain": null,
"length": 200
},
{
"name": "MinPS",
"type": "esriFieldTypeDouble",
"alias": "MinPS",
"domain": null
},
{
"name": "MaxPS",
"type": "esriFieldTypeDouble",
"alias": "MaxPS",
"domain": null
},
{
"name": "LowPS",
"type": "esriFieldTypeDouble",
"alias": "LowPS",
"domain": null
},
{
"name": "HighPS",
"type": "esriFieldTypeDouble",
"alias": "HighPS",
"domain": null
},
{
"name": "Category",
"type": "esriFieldTypeInteger",
"alias": "Category",
"domain": {
"type": "codedValue",
"name": "MosaicCatalogItemCategoryDomain",
"description": "Catalog item categories.",
"codedValues": [
{
"name": "Unknown",
"code": 0
},
{
"name": "Primary",
"code": 1
},
{
"name": "Overview",
"code": 2
},
{
"name": "Unprocessed Overview",
"code": 3
},
{
"name": "Partial Overview",
"code": 4
},
{
"name": "Uploaded",
"code": 253
},
{
"name": "Incomplete",
"code": 254
},
{
"name": "Custom",
"code": 255
}
],
"mergePolicy": "esriMPTDefaultValue",
"splitPolicy": "esriSPTDefaultValue"
}
},
{
"name": "Tag",
"type": "esriFieldTypeString",
"alias": "Tag",
"domain": null,
"length": 100
},
{
"name": "GroupName",
"type": "esriFieldTypeString",
"alias": "GroupName",
"domain": null,
"length": 100
},
{
"name": "ProductName",
"type": "esriFieldTypeString",
"alias": "ProductName",
"domain": null,
"length": 100
},
{
"name": "CenterX",
"type": "esriFieldTypeDouble",
"alias": "CenterX",
"domain": null
},
{
"name": "CenterY",
"type": "esriFieldTypeDouble",
"alias": "CenterY",
"domain": null
},
{
"name": "ZOrder",
"type": "esriFieldTypeInteger",
"alias": "ZOrder",
"domain": null
},
{
"name": "Shape_Length",
"type": "esriFieldTypeDouble",
"alias": "Shape_Length",
"domain": null
},
{
"name": "Shape_Area",
"type": "esriFieldTypeDouble",
"alias": "Shape_Area",
"domain": null
}
],
"capabilities": "Catalog,Download,Image,Metadata",
"defaultMosaicMethod": "Northwest",
"allowedMosaicMethods": "NorthWest,Center,LockRaster,ByAttribute,Nadir,Viewpoint,Seamline,None",
"sortField": "",
"sortValue": null,
"sortAscending": true,
"mosaicOperator": "First",
"maxDownloadSizeLimit": 2048,
"defaultCompressionQuality": 75,
"defaultResamplingMethod": "Bilinear",
"maxImageHeight": 4100,
"maxImageWidth": 15000,
"maxRecordCount": 1000,
"maxDownloadImageCount": 20,
"maxMosaicImageCount": 100,
"allowRasterFunction": true,
"rasterFunctionInfos": [
{
"name": "None",
"description": "",
"help": ""
}
],
"rasterTypeInfos": [
{
"name": "Raster Dataset",
"description": "Supports all ArcGIS Raster Datasets",
"help": ""
}
],
"mensurationCapabilities": "None",
"hasHistograms": true,
"hasColormap": false,
"hasRasterAttributeTable": false,
"minScale": 0,
"maxScale": 0,
"exportTilesAllowed": false,
"supportsStatistics": true,
"supportsAdvancedQueries": true,
"editFieldsInfo": null,
"ownershipBasedAccessControlForRasters": null,
"allowComputeTiePoints": false,
"useStandardizedQueries": true,
"advancedQueryCapabilities": {
"useStandardizedQueries": true,
"supportsStatistics": true,
"supportsOrderBy": true,
"supportsDistinct": true,
"supportsPagination": true
},
"spatialReference": {
"wkid": 102100,
"latestWkid": 3857
}
}