View In:
ArcGIS JavaScript
ArcGIS Online Map Viewer
ArcGIS Earth
Service Description: This raster data set was created by compiling the 1:24,000-scale bedrock-topography contour lines into a grid surface. The results were clipped at generalized glacial boundaries. This data set represents only the bedrock that is buried beneath glacial and alluvial deposits. The areas that have no data are assumed to have bedrock at the surface.
Name: DGS/BT500K
Description: This raster data set was created by compiling the 1:24,000-scale bedrock-topography contour lines into a grid surface. The results were clipped at generalized glacial boundaries. This data set represents only the bedrock that is buried beneath glacial and alluvial deposits. The areas that have no data are assumed to have bedrock at the surface.
Single Fused Map Cache: false
Extent:
XMin: 1310261.1249999998
YMin: 146871.8281250554
XMax: 2518132.7250048574
YMax: 1455136.9281303168
Spatial Reference: 102723
(3735)
LatestVCSWkid(0)
Initial Extent:
XMin: 1310261.1249999998
YMin: 146871.8281250554
XMax: 2518132.7250048574
YMax: 1455136.9281303168
Spatial Reference: 102723
(3735)
LatestVCSWkid(0)
Full Extent:
XMin: 1310261.1249999998
YMin: 146871.8281250554
XMax: 2518132.7250048574
YMax: 1455136.9281303168
Spatial Reference: 102723
(3735)
LatestVCSWkid(0)
Pixel Size X: 196.85000000079165
Pixel Size Y: 196.85000000079165
Band Count: 1
Pixel Type: U16
RasterFunction Infos: {"rasterFunctionInfos": [{
"name": "None",
"description": "",
"help": ""
}]}
Mensuration Capabilities: Basic
Inspection Capabilities:
Has Histograms: true
Has Colormap: false
Has Multi Dimensions : false
Rendering Rule:
Min Scale: 0
Max Scale: 0
Copyright Text: Ohio Department of Natural Resources
Service Data Type: esriImageServiceDataTypeGeneric
Min Values: 307
Max Values: 1465
Mean Values: 840.4481977466221
Standard Deviation Values: 179.9970892109011
Object ID Field:
Fields:
None
Default Mosaic Method: Center
Allowed Mosaic Methods:
SortField:
SortValue: null
Mosaic Operator: First
Default Compression Quality: 75
Default Resampling Method: Bilinear
Max Record Count: null
Max Image Height: 4100
Max Image Width: 15000
Max Download Image Count: null
Max Mosaic Image Count: null
Allow Raster Function: true
Allow Copy: true
Allow Analysis: true
Allow Compute TiePoints: false
Supports Statistics: false
Supports Advanced Queries: false
Use StandardizedQueries: true
Raster Type Infos:
Name: Raster Dataset
Description: Supports all ArcGIS Raster Datasets
Help:
Has Raster Attribute Table: false
Edit Fields Info: null
Ownership Based AccessControl For Rasters: null
Child Resources:
Info
Histograms
Statistics
Key Properties
Legend
Raster Function Infos
Supported Operations:
Export Image
Identify
Measure
Compute Histograms
Compute Statistics Histograms
Get Samples
Compute Class Statistics
Query Boundary
Compute Pixel Location
Compute Angles
Validate
Project