View In:
ArcGIS JavaScript
ArcGIS Online Map Viewer
ArcGIS Earth
ArcGIS Pro
Service Description: In the Spring of 2020, the Ohio Department of Natural Resources (ODNR) obtained new orthoimagery covering the entire Ohio shoreline of Lake Erie (+/- 516 sq. mi). The aerial imagery was collected during leaf-off conditions with a 6-inch pixel resolution. Imagery was collected with the Leica ADS Airborne Digital Sensors. Along the perimeter of the project area, ortho-imagery is buffered at 100-feet. Existing ground control and new lidar data will be utilized to provide the County the most economical, yet current product. The orthos are delivered as a cohesive dataset, consisting of 2,500' x 2,500' uncompressed 8-bit, 4-band color GeoTIFF files. The file naming convention is as follows: anxxxxyyyy (Ohio North Zone); Please note that xxxx and yyyy represent the easting and northing coordinates (respectively) in state plane feet. Each GeoTIFF ortho file is approximately 100 megabytes in size. Additional deliverables include color and color infrared MrSID (Multi resolution Seamless Image Database) images (20x and 100x compressions), FGDC compliant metadata per file, and tile index provided in ESRI shapefile format. Ownership of the data products resides with ODNR and the state of Ohio. Orthoimagery and ancillary data products produced through this contract are public domain data.
Map Name: Layers
Legend
All Layers and Tables
Dynamic Legend
Dynamic All Layers
Layers:
Description:
Service Item Id: f4dc6dff9e6846e5821d4bd799a5b873
Copyright Text: Department of Natural Resources, Office of Information Technology.
Spatial Reference:
102100
(3857)
LatestVCSWkid(0)
Single Fused Map Cache: true
Tile Info:
- Height: 256
- Width: 256
- DPI: 96
-
Levels of Detail: 20
-
Level ID: 0
[ Start Tile, End Tile ]
- Resolution: 156543.03392800014
- Scale: 5.91657527591555E8
-
Level ID: 1
[ Start Tile, End Tile ]
- Resolution: 78271.51696399994
- Scale: 2.95828763795777E8
-
Level ID: 2
[ Start Tile, End Tile ]
- Resolution: 39135.75848200009
- Scale: 1.47914381897889E8
-
Level ID: 3
[ Start Tile, End Tile ]
- Resolution: 19567.87924099992
- Scale: 7.3957190948944E7
-
Level ID: 4
[ Start Tile, End Tile ]
- Resolution: 9783.93962049996
- Scale: 3.6978595474472E7
-
Level ID: 5
[ Start Tile, End Tile ]
- Resolution: 4891.96981024998
- Scale: 1.8489297737236E7
- Format: PNG32
- Compression Quality: 0.0
- Origin: X: -2.0037508342787E7
Y: 2.0037508342787E7
- Spatial Reference: 102100
(3857)
LatestVCSWkid(0)
Storage Info:
- Storage Format: esriMapCacheStorageModeCompactV2
- Packet Size: 128
Initial Extent:
XMin: -9466091.346690001
YMin: 4610482.70062
XMax: -8939378.40631
YMax: 5183685.29498
Spatial Reference: 102100
(0)
LatestVCSWkid(0)
Full Extent:
XMin: -9442149.8494
YMin: 4636537.364
XMax: -8963319.9036
YMax: 5157630.6316
Spatial Reference: 102100
(0)
LatestVCSWkid(0)
Units: esriMeters
Supported Image Format Types: PNG32,PNG24,PNG,JPG,DIB,TIFF,EMF,PS,PDF,GIF,SVG,SVGZ,BMP
Document Info:
Title: OCM_MOS_2020_cir
Author:
Comments: In the Spring of 2020, the Ohio Department of Natural Resources (ODNR) obtained new orthoimagery covering the entire Ohio shoreline of Lake Erie (+/- 516 sq. mi). The aerial imagery was collected during leaf-off conditions with a 6-inch pixel resolution. Imagery was collected with the Leica ADS Airborne Digital Sensors. Along the perimeter of the project area, ortho-imagery is buffered at 100-feet. Existing ground control and new lidar data will be utilized to provide the County the most economical, yet current product. The orthos are delivered as a cohesive dataset, consisting of 2,500' x 2,500' uncompressed 8-bit, 4-band color GeoTIFF files. The file naming convention is as follows: anxxxxyyyy (Ohio North Zone); Please note that xxxx and yyyy represent the easting and northing coordinates (respectively) in state plane feet. Each GeoTIFF ortho file is approximately 100 megabytes in size. Additional deliverables include color and color infrared MrSID (Multi resolution Seamless Image Database) images (20x and 100x compressions), FGDC compliant metadata per file, and tile index provided in ESRI shapefile format. Ownership of the data products resides with ODNR and the state of Ohio. Orthoimagery and ancillary data products produced through this contract are public domain data.
Subject: Imagery of Lake Erie shoreline in Ohio collected during spring 2020. Images are 3-band color-infrared with 6 inch pixel resolution.
Category:
Keywords:
AntialiasingMode: None
TextAntialiasingMode: Force
Supports Dynamic Layers: true
Resampling: false
MaxRecordCount: 1000
MaxImageHeight: 4096
MaxImageWidth: 4096
Supported Query Formats: JSON, geoJSON, PBF
Supports Query Data Elements: true
Min Scale: 4622324.434309
Max Scale: 4513.988705
Supports Datum Transformation: true
Child Resources:
Info
Dynamic Layer
Supported Operations:
Export Map
Identify
QueryLegends
QueryDomains
Find
Return Updates