View In:
ArcGIS JavaScript
ArcGIS Online Map Viewer
ArcGIS Earth
ArcGIS Pro
Service Description: Provide the OSIP 2006 Color Imagery as Statewide Mosaic Layer. This data was collected in 2006 with the Statewide Imagery project. The Ohio Statewide Imagery Program (OSIP) is a partnership between State and Local government agencies to develop high-resolution imagery and elevation data for the State of Ohio to benefit Geographic Information System users at all levels of government. Accurate imagery and elevation data serve as the backbone for the development of additional data sets maintained and accessed by government decision makers and the public.
This dataset is a mix of the 6 inch and 1 foot resolution imagery. Counties have the option to provide additional funding to purchase higher resolution than the standard 1 foot.
Map Name: Layers
Legend
All Layers and Tables
Dynamic Legend
Dynamic All Layers
Layers:
Description: Provide the 2006 Color-Infrared Imagery as Statewide Mosaic Layer. This data was collected in 2006 with the Statewide Imagery project for ODNR. The Ohio Statewide Imagery Program (OSIP) is a partnership between State and Local government agencies to develop high-resolution imagery and elevation data for the State of Ohio to benefit Geographic Information System users at all levels of government. Accurate imagery and elevation data serve as the backbone for the development of additional data sets maintained and accessed by government decision makers and the public.
CIR imagery is imagery made up of a combination of colors within the visible spectrum with the addition of NIR light which is represented by another, distinct color within the visible spectrum.
Service Item Id: ade02c28cdeb4ade88b6f82dd57ce52f
Copyright Text: OGRIP; OSIP; ODNR
Spatial Reference:
102100
(3857)
LatestVCSWkid(0)
Single Fused Map Cache: true
Tile Info:
- Height: 256
- Width: 256
- DPI: 96
-
Levels of Detail: 20
-
Level ID: 0
[ Start Tile, End Tile ]
- Resolution: 156543.03392800014
- Scale: 5.91657527591555E8
-
Level ID: 1
[ Start Tile, End Tile ]
- Resolution: 78271.51696399994
- Scale: 2.95828763795777E8
-
Level ID: 2
[ Start Tile, End Tile ]
- Resolution: 39135.75848200009
- Scale: 1.47914381897889E8
-
Level ID: 3
[ Start Tile, End Tile ]
- Resolution: 19567.87924099992
- Scale: 7.3957190948944E7
-
Level ID: 4
[ Start Tile, End Tile ]
- Resolution: 9783.93962049996
- Scale: 3.6978595474472E7
-
Level ID: 5
[ Start Tile, End Tile ]
- Resolution: 4891.96981024998
- Scale: 1.8489297737236E7
- Format: PNG32
- Compression Quality: 0.0
- Origin: X: -2.0037508342787E7
Y: 2.0037508342787E7
- Spatial Reference: 102100
(3857)
LatestVCSWkid(0)
Storage Info:
- Storage Format: esriMapCacheStorageModeCompactV2
- Packet Size: 128
Initial Extent:
XMin: -9435918.118519984
YMin: 4886373.511839629
XMax: -8969050.436480016
YMax: 5105278.275617707
Spatial Reference: 102100
(0)
LatestVCSWkid(0)
Full Extent:
XMin: -9442149.8494
YMin: 4636537.364
XMax: -8963319.9036
YMax: 5157630.6316
Spatial Reference: 102100
(0)
LatestVCSWkid(0)
Units: esriMeters
Supported Image Format Types: PNG32,PNG24,PNG,JPG,DIB,TIFF,EMF,PS,PDF,GIF,SVG,SVGZ,BMP
Document Info:
Title: OSIP 2006 Imagery Mosaic
Author: OGRIP, OSIO, ODNR
Comments: Provide the OSIP 2006 Color Imagery as Statewide Mosaic Layer. This data was collected in 2006 with the Statewide Imagery project. The Ohio Statewide Imagery Program (OSIP) is a partnership between State and Local government agencies to develop high-resolution imagery and elevation data for the State of Ohio to benefit Geographic Information System users at all levels of government. Accurate imagery and elevation data serve as the backbone for the development of additional data sets maintained and accessed by government decision makers and the public.
This dataset is a mix of the 6 inch and 1 foot resolution imagery. Counties have the option to provide additional funding to purchase higher resolution than the standard 1 foot.
Subject: State of Ohio Color Imagery produced in 2006 as part of Ohio Statewide Imagery Program.
Category:
Keywords: #OSIP;#ODNR;#MOSAIC;#IMAGERY;#STATEWIDE;#OFFLINE
AntialiasingMode: None
TextAntialiasingMode: Force
Supports Dynamic Layers: true
Resampling: false
MaxRecordCount: 1000
MaxImageHeight: 4096
MaxImageWidth: 4096
Supported Query Formats: JSON, geoJSON, PBF
Supports Query Data Elements: true
Min Scale: 4622324.434309
Max Scale: 4513.988705
Supports Datum Transformation: true
Child Resources:
Info
Dynamic Layer
Supported Operations:
Export Map
Identify
QueryLegends
QueryDomains
Find
EstimateExportTilesSize
ExportTiles
Return Updates