View In:
ArcGIS JavaScript
ArcGIS Online Map Viewer
ArcGIS Earth
Service Description: Provide the OSIP 2006 Color Imagery as Statewide Mosaic Layer. This data was collected in 2006 with the Statewide Imagery project. The Ohio Statewide Imagery Program (OSIP) is a partnership between State and Local government agencies to develop high-resolution imagery and elevation data for the State of Ohio to benefit Geographic Information System users at all levels of government. Accurate imagery and elevation data serve as the backbone for the development of additional data sets maintained and accessed by government decision makers and the public. This dataset is a mix of the 6 inch and 1 foot resolution imagery. Counties have the option to provide additional funding to purchase higher resolution than the standard 1 foot.
Name: OIT_Services/OSIP_MOS_2006_IS
Description: Provide the OSIP 2006 Color Imagery as Statewide Mosaic Layer. This data was collected in 2006 with the Statewide Imagery project. The Ohio Statewide Imagery Program (OSIP) is a partnership between State and Local government agencies to develop high-resolution imagery and elevation data for the State of Ohio to benefit Geographic Information System users at all levels of government. Accurate imagery and elevation data serve as the backbone for the development of additional data sets maintained and accessed by government decision makers and the public. This dataset is a mix of the 6 inch and 1 foot resolution imagery. Counties have the option to provide additional funding to purchase higher resolution than the standard 1 foot.
Single Fused Map Cache: false
Extent:
XMin: -9445257.2775
YMin: 4633802.429300003
XMax: -8959711.2775
YMax: 5161545.429300003
Spatial Reference: 102100
(3857)
LatestVCSWkid(0)
Initial Extent:
XMin: -9445257.2775
YMin: 4633802.429300003
XMax: -8959711.2775
YMax: 5161545.429300003
Spatial Reference: 102100
(3857)
LatestVCSWkid(0)
Full Extent:
XMin: -9445257.2775
YMin: 4633802.429300003
XMax: -8959711.2775
YMax: 5161545.429300003
Spatial Reference: 102100
(3857)
LatestVCSWkid(0)
Pixel Size X: 1.0
Pixel Size Y: 1.0
Band Count: 3
Pixel Type: U8
RasterFunction Infos: {"rasterFunctionInfos": [{
"name": "None",
"description": "",
"help": ""
}]}
Mensuration Capabilities: None
Inspection Capabilities:
Has Histograms: true
Has Colormap: false
Has Multi Dimensions : false
Rendering Rule:
Min Scale: 0
Max Scale: 0
Resampling: false
Copyright Text: Ohio Statewide Imagery Program (OSIP), The Ohio Geographically Referenced Information Program (OGRIP)
Service Data Type: esriImageServiceDataTypeRGB
Min Values: 9, 9, 16
Max Values: 250, 246, 253
Mean Values: 116.83630363865893, 119.97328819921574, 105.7763138050072
Standard Deviation Values: 23.252562994497506, 19.07506786972691, 18.618627451411196
Object ID Field: OBJECTID
Fields:
-
OBJECTID
(
type: esriFieldTypeOID, alias: OBJECTID
)
-
Shape
(
type: esriFieldTypeGeometry, alias: Shape
)
-
Name
(
type: esriFieldTypeString, alias: Name, length: 200
)
-
MinPS
(
type: esriFieldTypeDouble, alias: MinPS
)
-
MaxPS
(
type: esriFieldTypeDouble, alias: MaxPS
)
-
LowPS
(
type: esriFieldTypeDouble, alias: LowPS
)
-
HighPS
(
type: esriFieldTypeDouble, alias: HighPS
)
-
Category
(
type: esriFieldTypeInteger, alias: Category
, Coded Values:
[0: Unknown]
, [1: Primary]
, [2: Overview]
, ...5 more...
)
-
Tag
(
type: esriFieldTypeString, alias: Tag, length: 100
)
-
GroupName
(
type: esriFieldTypeString, alias: GroupName, length: 100
)
-
ProductName
(
type: esriFieldTypeString, alias: ProductName, length: 100
)
-
CenterX
(
type: esriFieldTypeDouble, alias: CenterX
)
-
CenterY
(
type: esriFieldTypeDouble, alias: CenterY
)
-
ZOrder
(
type: esriFieldTypeInteger, alias: ZOrder
)
-
Shape_Length
(
type: esriFieldTypeDouble, alias: Shape_Length
)
-
Shape_Area
(
type: esriFieldTypeDouble, alias: Shape_Area
)
Default Mosaic Method: Northwest
Allowed Mosaic Methods: NorthWest,Center,LockRaster,ByAttribute,Nadir,Viewpoint,Seamline,None
SortField:
SortValue: null
Mosaic Operator: First
Default Compression Quality: 75
Default Resampling Method: Bilinear
Max Record Count: 1000
Max Image Height: 4100
Max Image Width: 15000
Max Download Image Count: 20
Max Mosaic Image Count: 60
Allow Raster Function: true
Allow Copy: true
Allow Analysis: true
Allow Compute TiePoints: false
Supports Statistics: true
Supports Advanced Queries: true
Use StandardizedQueries: true
Raster Type Infos:
Name: Raster Dataset
Description: Supports all ArcGIS Raster Datasets
Help:
Has Raster Attribute Table: false
Edit Fields Info: null
Ownership Based AccessControl For Rasters: null
Child Resources:
Info
Histograms
Statistics
Key Properties
Legend
Raster Function Infos
Supported Operations:
Export Image
Query
Identify
Download Rasters
Get Image Url
Compute Histograms
Compute Statistics Histograms
Get Samples
Compute Class Statistics
Query GPS Info
Find Images
Image to Map
Map to Image
Measure from Image
Image to Map Multiray
Query Boundary
Compute Pixel Location
Compute Angles
Validate
Project