View In:
ArcGIS JavaScript
ArcGIS Online Map Viewer
ArcGIS Earth
Service Description: Provide a Raster Mosaic of the Historic Maps Produced by USGS, The 7.5 minute topographic maps were produced at scale of 1:24,000. The date ranges for the maps used for this mosaic are 1951 - 2002. Maps were downloaded from the USGS Topo View site in PDF format and then exported out to TIFF and georeferenced.
The best known USGS maps are those of the 7.5-minute, 1:24,000-scale quadrangle series. A scale of 1:25,000 is used for maps based on metric units (1 centimeter = 0.25 kilometer). The area portrayed on each sheet ranges from 64 square miles at latitude 30 degrees north to 49 square miles at latitude 49 degrees north.
A scale of 1:24,000 allows considerable detail to be shown in the quadrangle areas. It takes about 57,000 maps to cover the conterminous 48 States, Hawaii, and territories.
The sheet size is about 22 x 27 inches north of latitude 31 degrees and 23 x 27 inches south of that latitude.
Name: OIT_Services/USGS_DRG_MOS_24000_2
Description: Provide a Raster Mosaic of the Historic Maps Produced by USGS, The 7.5 minute topographic maps were produced at scale of 1:24,000. The date ranges for the maps used for this mosaic are 1951 - 2002. Maps were downloaded from the USGS Topo View site in PDF format and then exported out to TIFF and georeferenced.
The best known USGS maps are those of the 7.5-minute, 1:24,000-scale quadrangle series. A scale of 1:25,000 is used for maps based on metric units (1 centimeter = 0.25 kilometer). The area portrayed on each sheet ranges from 64 square miles at latitude 30 degrees north to 49 square miles at latitude 49 degrees north.
A scale of 1:24,000 allows considerable detail to be shown in the quadrangle areas. It takes about 57,000 maps to cover the conterminous 48 States, Hawaii, and territories.
The sheet size is about 22 x 27 inches north of latitude 31 degrees and 23 x 27 inches south of that latitude.
Single Fused Map Cache: true
Tile Info:
- Height: 256
- Width: 256
- DPI: 96
-
Levels of Detail: 24
-
Level ID: 0
[ Start Tile, End Tile ]
- Resolution: 156543.03392800014
- Scale: 5.91657527591555E8
-
Level ID: 1
[ Start Tile, End Tile ]
- Resolution: 78271.51696399994
- Scale: 2.95828763795777E8
-
Level ID: 2
[ Start Tile, End Tile ]
- Resolution: 39135.75848200009
- Scale: 1.47914381897889E8
-
Level ID: 3
[ Start Tile, End Tile ]
- Resolution: 19567.87924099992
- Scale: 7.3957190948944E7
-
Level ID: 4
[ Start Tile, End Tile ]
- Resolution: 9783.93962049996
- Scale: 3.6978595474472E7
-
Level ID: 5
[ Start Tile, End Tile ]
- Resolution: 4891.96981024998
- Scale: 1.8489297737236E7
- Format: PNG8
- Compression Quality: 0.0
- LERC Error: NaN
- Origin: X: -2.0037508342787E7
Y: 2.0037508342787E7
- Spatial Reference: 102100
(3857)
LatestVCSWkid(0)
Storage Info:
- Storage Format: esriMapCacheStorageModeCompactV2
- Packet Size: 128
Extent:
XMin: -9451095.1693
YMin: 4629805.599200003
XMax: -8958739.1693
YMax: 5162139.599200003
Spatial Reference: 102100
(3857)
LatestVCSWkid(0)
Initial Extent:
XMin: -9451095.1693
YMin: 4629805.599200003
XMax: -8958739.1693
YMax: 5162139.599200003
Spatial Reference: 102100
(3857)
LatestVCSWkid(0)
Full Extent:
XMin: -9451095.1693
YMin: 4629805.599200003
XMax: -8958739.1693
YMax: 5162139.599200003
Spatial Reference: 102100
(3857)
LatestVCSWkid(0)
Pixel Size X: 2.0
Pixel Size Y: 2.0
Band Count: 3
Pixel Type: U8
RasterFunction Infos: {"rasterFunctionInfos": [{
"name": "None",
"description": "",
"help": ""
}]}
Mensuration Capabilities: None
Inspection Capabilities:
Has Histograms: true
Has Colormap: false
Has Multi Dimensions : false
Rendering Rule:
Min Scale: 0
Max Scale: 0
Min LOD: 0
Max LOD: 21
Resampling: false
Copyright Text: United State Geological Survey (USGS), Department of Natural Resources, Office of Information Technology.
Service Data Type: esriImageServiceDataTypeRGB
Min Values: 39, 28, 11
Max Values: 255, 255, 255
Mean Values: 229.26097986029177, 229.55652608199898, 213.24213761275158
Standard Deviation Values: 17.383779116355974, 19.09451456603695, 29.738498500615755
Object ID Field: OBJECTID
Fields:
-
OBJECTID
(
type: esriFieldTypeOID, alias: OBJECTID
)
-
Shape
(
type: esriFieldTypeGeometry, alias: Shape
)
-
Name
(
type: esriFieldTypeString, alias: Name, length: 200
)
-
MinPS
(
type: esriFieldTypeDouble, alias: MinPS
)
-
MaxPS
(
type: esriFieldTypeDouble, alias: MaxPS
)
-
LowPS
(
type: esriFieldTypeDouble, alias: LowPS
)
-
HighPS
(
type: esriFieldTypeDouble, alias: HighPS
)
-
Category
(
type: esriFieldTypeInteger, alias: Category
, Coded Values:
[0: Unknown]
, [1: Primary]
, [2: Overview]
, ...5 more...
)
-
Tag
(
type: esriFieldTypeString, alias: Tag, length: 100
)
-
GroupName
(
type: esriFieldTypeString, alias: GroupName, length: 100
)
-
ProductName
(
type: esriFieldTypeString, alias: ProductName, length: 100
)
-
CenterX
(
type: esriFieldTypeDouble, alias: CenterX
)
-
CenterY
(
type: esriFieldTypeDouble, alias: CenterY
)
-
ZOrder
(
type: esriFieldTypeInteger, alias: ZOrder
)
-
Shape_Length
(
type: esriFieldTypeDouble, alias: Shape_Length
)
-
Shape_Area
(
type: esriFieldTypeDouble, alias: Shape_Area
)
Default Mosaic Method: Northwest
Allowed Mosaic Methods: NorthWest,Center,LockRaster,ByAttribute,Nadir,Viewpoint,Seamline,None
SortField:
SortValue: null
Mosaic Operator: First
Default Compression Quality: 75
Default Resampling Method: Bilinear
Max Record Count: 1000
Max Image Height: 4100
Max Image Width: 15000
Max Download Image Count: 20
Max Mosaic Image Count: 100
Allow Raster Function: true
Allow Copy: true
Allow Analysis: true
Allow Compute TiePoints: false
Supports Statistics: true
Supports Advanced Queries: true
Use StandardizedQueries: true
Raster Type Infos:
Name: Raster Dataset
Description: Supports all ArcGIS Raster Datasets
Help:
Has Raster Attribute Table: false
Edit Fields Info: null
Ownership Based AccessControl For Rasters: null
Child Resources:
Info
Histograms
Statistics
Key Properties
Legend
Raster Function Infos
Supported Operations:
Export Image
Query
Identify
Download Rasters
Get Image Url
Compute Histograms
Compute Statistics Histograms
Get Samples
Compute Class Statistics
Query GPS Info
Find Images
Image to Map
Map to Image
Measure from Image
Image to Map Multiray
Query Boundary
Compute Pixel Location
Compute Angles
Validate
Project
EstimateExportTilesSize
ExportTiles