View In:
ArcGIS JavaScript
ArcGIS Online Map Viewer
ArcGIS Earth
Service Description: This is a map of the base elevation of the Pittsburgh (No.8) Coal Bed created by the Ohio Geological Survey in 2015. This raster was created with a point GIS file containing Pittsburgh base elevations and thicknesses. The public data points file that this map was derived from is called "Public_Pittsburgh_Points". For more information please see the Ohio Geological Survey Publication “Evaluation Of Available Resources Of The Pittsburgh (No. 8) Coal Bed In Ohio”. Raster cell values represent the base elevation of the coal bed in feet. This raster was created with Natural Neighbor interpolation. Cell size is 100ft.
Name: DGS/COAL_Pittsburgh_Elev
Description: This is a map of the base elevation of the Pittsburgh (No.8) Coal Bed created by the Ohio Geological Survey in 2015. This raster was created with a point GIS file containing Pittsburgh base elevations and thicknesses. The public data points file that this map was derived from is called "Public_Pittsburgh_Points". For more information please see the Ohio Geological Survey Publication “Evaluation Of Available Resources Of The Pittsburgh (No. 8) Coal Bed In Ohio”. Raster cell values represent the base elevation of the coal bed in feet. This raster was created with Natural Neighbor interpolation. Cell size is 100ft.
Single Fused Map Cache: false
Extent:
XMin: 1953159.2720361948
YMin: 146665.43875433717
XMax: 2518859.272036195
YMax: 965565.4387543371
Spatial Reference: 102723
(3735)
LatestVCSWkid(0)
Initial Extent:
XMin: 1953159.2720361948
YMin: 146665.43875433717
XMax: 2518859.272036195
YMax: 965565.4387543371
Spatial Reference: 102723
(3735)
LatestVCSWkid(0)
Full Extent:
XMin: 1953159.2720361948
YMin: 146665.43875433717
XMax: 2518859.272036195
YMax: 965565.4387543371
Spatial Reference: 102723
(3735)
LatestVCSWkid(0)
Pixel Size X: 100.0
Pixel Size Y: 100.0
Band Count: 1
Pixel Type: F32
RasterFunction Infos: {"rasterFunctionInfos": [{
"name": "None",
"description": "",
"help": ""
}]}
Mensuration Capabilities: Basic
Inspection Capabilities:
Has Histograms: true
Has Colormap: false
Has Multi Dimensions : false
Rendering Rule:
Min Scale: 0
Max Scale: 0
Copyright Text: This is a product of the Ohio Department of Natural Resources, Division of Geological Survey. Production of this map is based on funding by the Ohio Coal Development Office.
Service Data Type: esriImageServiceDataTypeGeneric
Min Values: 183.60386657714844
Max Values: 1311.71044921875
Mean Values: 737.4629987912881
Standard Deviation Values: 193.19014600641918
Object ID Field:
Fields:
None
Default Mosaic Method: Center
Allowed Mosaic Methods:
SortField:
SortValue: null
Mosaic Operator: First
Default Compression Quality: 75
Default Resampling Method: Bilinear
Max Record Count: null
Max Image Height: 4100
Max Image Width: 15000
Max Download Image Count: null
Max Mosaic Image Count: null
Allow Raster Function: true
Allow Copy: true
Allow Analysis: true
Allow Compute TiePoints: false
Supports Statistics: false
Supports Advanced Queries: false
Use StandardizedQueries: true
Raster Type Infos:
Name: Raster Dataset
Description: Supports all ArcGIS Raster Datasets
Help:
Has Raster Attribute Table: false
Edit Fields Info: null
Ownership Based AccessControl For Rasters: null
Child Resources:
Info
Histograms
Statistics
Key Properties
Legend
Raster Function Infos
Supported Operations:
Export Image
Identify
Measure
Compute Histograms
Compute Statistics Histograms
Get Samples
Compute Class Statistics
Query Boundary
Compute Pixel Location
Compute Angles
Validate
Project