View In:
ArcGIS JavaScript
ArcGIS Online Map Viewer
ArcGIS Earth
Service Description: DGS/Drift_Thickness
Name: DGS/Drift_Thickness
Description:
Single Fused Map Cache: false
Extent:
XMin: 1310261.1249999998
YMin: 146871.8281250554
XMax: 2518132.7250048574
YMax: 1455136.9281303168
Spatial Reference: 102723
(3735)
LatestVCSWkid(0)
Initial Extent:
XMin: 1310261.1249999998
YMin: 146871.8281250554
XMax: 2518132.7250048574
YMax: 1455136.9281303168
Spatial Reference: 102723
(3735)
LatestVCSWkid(0)
Full Extent:
XMin: 1310261.1249999998
YMin: 146871.8281250554
XMax: 2518132.7250048574
YMax: 1455136.9281303168
Spatial Reference: 102723
(3735)
LatestVCSWkid(0)
Pixel Size X: 196.85000000079165
Pixel Size Y: 196.85000000079165
Band Count: 1
Pixel Type: S16
RasterFunction Infos: {"rasterFunctionInfos": [{
"name": "None",
"description": "",
"help": ""
}]}
Mensuration Capabilities: Basic
Inspection Capabilities:
Has Histograms: true
Has Colormap: false
Has Multi Dimensions : false
Rendering Rule:
Min Scale: 0
Max Scale: 0
Copyright Text:
Service Data Type: esriImageServiceDataTypeGeneric
Min Values: 0
Max Values: 723
Mean Values: 77.07900424454523
Standard Deviation Values: 80.60829122053362
Object ID Field:
Fields:
None
Default Mosaic Method: Center
Allowed Mosaic Methods:
SortField:
SortValue: null
Mosaic Operator: First
Default Compression Quality: 75
Default Resampling Method: Bilinear
Max Record Count: null
Max Image Height: 4100
Max Image Width: 15000
Max Download Image Count: null
Max Mosaic Image Count: null
Allow Raster Function: true
Allow Copy: true
Allow Analysis: true
Allow Compute TiePoints: false
Supports Statistics: false
Supports Advanced Queries: false
Use StandardizedQueries: true
Raster Type Infos:
Name: Raster Dataset
Description: Supports all ArcGIS Raster Datasets
Help:
Has Raster Attribute Table: false
Edit Fields Info: null
Ownership Based AccessControl For Rasters: null
Child Resources:
Info
Histograms
Statistics
Key Properties
Legend
Raster Function Infos
Supported Operations:
Export Image
Identify
Measure
Compute Histograms
Compute Statistics Histograms
Get Samples
Compute Class Statistics
Query Boundary
Compute Pixel Location
Compute Angles
Validate
Project