View In:
ArcGIS JavaScript
ArcGIS Online Map Viewer
ArcGIS Earth
Service Description: The grid data layer of the elevation of the Lower Freeport coal bed. The grid interval is 90 meters
Name: DGS/frpcl_ele
Description: The grid data layer of the elevation of the Lower Freeport coal bed. The grid interval is 90 meters
Single Fused Map Cache: false
Extent:
XMin: 1882520.8388992723
YMin: 145709.47895932128
XMax: 2532125.8388992725
YMax: 1084979.2539593214
Spatial Reference: 102723
(3735)
LatestVCSWkid(0)
Initial Extent:
XMin: 1882520.8388992723
YMin: 145709.47895932128
XMax: 2532125.8388992725
YMax: 1084979.2539593214
Spatial Reference: 102723
(3735)
LatestVCSWkid(0)
Full Extent:
XMin: 1882520.8388992723
YMin: 145709.47895932128
XMax: 2532125.8388992725
YMax: 1084979.2539593214
Spatial Reference: 102723
(3735)
LatestVCSWkid(0)
Pixel Size X: 295.2750000000001
Pixel Size Y: 295.27500000000003
Band Count: 1
Pixel Type: F32
RasterFunction Infos: {"rasterFunctionInfos": [{
"name": "None",
"description": "",
"help": ""
}]}
Mensuration Capabilities: Basic
Inspection Capabilities:
Has Histograms: true
Has Colormap: false
Has Multi Dimensions : false
Rendering Rule:
Min Scale: 0
Max Scale: 0
Copyright Text: Funding was provided by the U.S. Department of Energy, through the Midcontinent Interactive Digital Carbon Atlas and Relational dataBase (MIDCARB) project.
Service Data Type: esriImageServiceDataTypeGeneric
Min Values: -369.5843200683594
Max Values: 1300.523681640625
Mean Values: 483.74407788414226
Standard Deviation Values: 367.0365881882494
Object ID Field:
Fields:
None
Default Mosaic Method: Center
Allowed Mosaic Methods:
SortField:
SortValue: null
Mosaic Operator: First
Default Compression Quality: 75
Default Resampling Method: Bilinear
Max Record Count: null
Max Image Height: 4100
Max Image Width: 15000
Max Download Image Count: null
Max Mosaic Image Count: null
Allow Raster Function: true
Allow Copy: true
Allow Analysis: true
Allow Compute TiePoints: false
Supports Statistics: false
Supports Advanced Queries: false
Use StandardizedQueries: true
Raster Type Infos:
Name: Raster Dataset
Description: Supports all ArcGIS Raster Datasets
Help:
Has Raster Attribute Table: false
Edit Fields Info: null
Ownership Based AccessControl For Rasters: null
Child Resources:
Info
Histograms
Statistics
Key Properties
Legend
Raster Function Infos
Supported Operations:
Export Image
Identify
Measure
Compute Histograms
Compute Statistics Histograms
Get Samples
Compute Class Statistics
Query Boundary
Compute Pixel Location
Compute Angles
Validate
Project