View In:
ArcGIS JavaScript
ArcGIS Online Map Viewer
ArcGIS Earth
Service Description: The data layer of the elevation of the Upper Freeport coal bed.
Name: DGS/frpcu_ele
Description: The data layer of the elevation of the Upper Freeport coal bed.
Single Fused Map Cache: false
Extent:
XMin: 1897331.193565592
YMin: 147039.94469144603
XMax: 2531286.618565592
YMax: 1074203.4446914461
Spatial Reference: 102723
(3735)
LatestVCSWkid(0)
Initial Extent:
XMin: 1897331.193565592
YMin: 147039.94469144603
XMax: 2531286.618565592
YMax: 1074203.4446914461
Spatial Reference: 102723
(3735)
LatestVCSWkid(0)
Full Extent:
XMin: 1897331.193565592
YMin: 147039.94469144603
XMax: 2531286.618565592
YMax: 1074203.4446914461
Spatial Reference: 102723
(3735)
LatestVCSWkid(0)
Pixel Size X: 295.27500000000003
Pixel Size Y: 295.27500000000003
Band Count: 1
Pixel Type: F32
RasterFunction Infos: {"rasterFunctionInfos": [{
"name": "None",
"description": "",
"help": ""
}]}
Mensuration Capabilities: Basic
Inspection Capabilities:
Has Histograms: true
Has Colormap: false
Has Multi Dimensions : false
Rendering Rule:
Min Scale: 0
Max Scale: 0
Copyright Text: Prepared in cooperation with the United States Geological Survey under Cooperative Agreement-U.S. Department of Interior 98-HQ-AG-2014
Service Data Type: esriImageServiceDataTypeGeneric
Min Values: -359.7830505371094
Max Values: 1300
Mean Values: 511.8595434317804
Standard Deviation Values: 346.85026638120513
Object ID Field:
Fields:
None
Default Mosaic Method: Center
Allowed Mosaic Methods:
SortField:
SortValue: null
Mosaic Operator: First
Default Compression Quality: 75
Default Resampling Method: Bilinear
Max Record Count: null
Max Image Height: 4100
Max Image Width: 15000
Max Download Image Count: null
Max Mosaic Image Count: null
Allow Raster Function: true
Allow Copy: true
Allow Analysis: true
Allow Compute TiePoints: false
Supports Statistics: false
Supports Advanced Queries: false
Use StandardizedQueries: true
Raster Type Infos:
Name: Raster Dataset
Description: Supports all ArcGIS Raster Datasets
Help:
Has Raster Attribute Table: false
Edit Fields Info: null
Ownership Based AccessControl For Rasters: null
Child Resources:
Info
Histograms
Statistics
Key Properties
Legend
Raster Function Infos
Supported Operations:
Export Image
Identify
Measure
Compute Histograms
Compute Statistics Histograms
Get Samples
Compute Class Statistics
Query Boundary
Compute Pixel Location
Compute Angles
Validate
Project