View In:
ArcGIS JavaScript
ArcGIS Online Map Viewer
ArcGIS Earth
Service Description: Elevation surface of the Mississippian-Pennsylvanian unconformity in Ohio.
Name: DGS/pnlvb_ele
Description: Elevation surface of the Mississippian-Pennsylvanian unconformity in Ohio.
Single Fused Map Cache: false
Extent:
XMin: 1814580.0521199577
YMin: 145352.43135429733
XMax: 2531278.0937866243
YMax: 1354011.4313542976
Spatial Reference: 102723
(3735)
LatestVCSWkid(0)
Initial Extent:
XMin: 1814580.0521199577
YMin: 145352.43135429733
XMax: 2531278.0937866243
YMax: 1354011.4313542976
Spatial Reference: 102723
(3735)
LatestVCSWkid(0)
Full Extent:
XMin: 1814580.0521199577
YMin: 145352.43135429733
XMax: 2531278.0937866243
YMax: 1354011.4313542976
Spatial Reference: 102723
(3735)
LatestVCSWkid(0)
Pixel Size X: 164.04166666666663
Pixel Size Y: 164.04166666666669
Band Count: 1
Pixel Type: F32
RasterFunction Infos: {"rasterFunctionInfos": [{
"name": "None",
"description": "",
"help": ""
}]}
Mensuration Capabilities: Basic
Inspection Capabilities:
Has Histograms: true
Has Colormap: false
Has Multi Dimensions : false
Rendering Rule:
Min Scale: 0
Max Scale: 0
Copyright Text: Funding was provided by the U.S. Department of Energy, through the Midcontinent Interactive Digital Carbon Atlas and Relational dataBase (MIDCARB) project.
Service Data Type: esriImageServiceDataTypeGeneric
Min Values: -920.1210327148438
Max Values: 1420
Mean Values: 331.0898345190078
Standard Deviation Values: 483.40958590539293
Object ID Field:
Fields:
None
Default Mosaic Method: Center
Allowed Mosaic Methods:
SortField:
SortValue: null
Mosaic Operator: First
Default Compression Quality: 75
Default Resampling Method: Bilinear
Max Record Count: null
Max Image Height: 4100
Max Image Width: 15000
Max Download Image Count: null
Max Mosaic Image Count: null
Allow Raster Function: true
Allow Copy: true
Allow Analysis: true
Allow Compute TiePoints: false
Supports Statistics: false
Supports Advanced Queries: false
Use StandardizedQueries: true
Raster Type Infos:
Name: Raster Dataset
Description: Supports all ArcGIS Raster Datasets
Help:
Has Raster Attribute Table: false
Edit Fields Info: null
Ownership Based AccessControl For Rasters: null
Child Resources:
Info
Histograms
Statistics
Key Properties
Legend
Raster Function Infos
Supported Operations:
Export Image
Identify
Measure
Compute Histograms
Compute Statistics Histograms
Get Samples
Compute Class Statistics
Query Boundary
Compute Pixel Location
Compute Angles
Validate
Project