View In:
ArcGIS JavaScript
ArcGIS Online Map Viewer
ArcGIS Earth
Service Description: The 2006-2008 OSIP bare-earth Digital Elevation Model (DEM) was derived from digital LiDAR data was collected during the months of March and May (leaf-off conditions). The DEM data covers the entire land area of Ohio. The DEM is delivered in county sets, consisting of 5,000' x 5,000' size tiles that correspond to the tile sizes for the OSIP 1FT imagery products. Where the State borders other states (land only), the entire border of the State is buffered by at least 1,000-feet. Along the Lake Erie Shoreline ortho coverage is buffered beyond the shoreline a minimum distance of 2,500-feet. The file naming convention is as follows: Nxxxxyyy = 5,000' x 5,000' Tiles located in the Ohio State Plane Coordinate System (North Zone). Sxxxxyyy = 5,000' x 5,000' Tiles located in the Ohio State Plane Coordinate System (South Zone). Please note that xxxx and yyy represent the easting and northing coordinates (respectively) in state plane feet, The naming convention for each tile is based upon (the bottom most-left pixel). The DEM was provided in ESRI ArcINFO GRID raster and ASCII grid formats, with only the LiDAR in LAS Format containing the above ground LiDAR features. Ownership of the data products resides with the State of Ohio. Orthophotography and ancillary data products produced through this contract are public domain data. The LiDAR used to generate the DEM was acquired Statewide to provide a solid and very accurate base to use during the image rectification process. This same LiDAR can be supplemented with 3D breaklines to generate 2-foot and/or 4/5-foot contours. The average post spacing between LiDAR points is 7-feet. The flying altitude was 7,300-feet AMT, with the targeted flying speed at 170 knots.
Name: OH_DEM_test
Description: The 2006-2008 OSIP bare-earth Digital Elevation Model (DEM) was derived from digital LiDAR data was collected during the months of March and May (leaf-off conditions). The DEM data covers the entire land area of Ohio. The DEM is delivered in county sets, consisting of 5,000' x 5,000' size tiles that correspond to the tile sizes for the OSIP 1FT imagery products. Where the State borders other states (land only), the entire border of the State is buffered by at least 1,000-feet. Along the Lake Erie Shoreline ortho coverage is buffered beyond the shoreline a minimum distance of 2,500-feet. The file naming convention is as follows: Nxxxxyyy = 5,000' x 5,000' Tiles located in the Ohio State Plane Coordinate System (North Zone). Sxxxxyyy = 5,000' x 5,000' Tiles located in the Ohio State Plane Coordinate System (South Zone). Please note that xxxx and yyy represent the easting and northing coordinates (respectively) in state plane feet, The naming convention for each tile is based upon (the bottom most-left pixel). The DEM was provided in ESRI ArcINFO GRID raster and ASCII grid formats, with only the LiDAR in LAS Format containing the above ground LiDAR features. Ownership of the data products resides with the State of Ohio. Orthophotography and ancillary data products produced through this contract are public domain data. The LiDAR used to generate the DEM was acquired Statewide to provide a solid and very accurate base to use during the image rectification process. This same LiDAR can be supplemented with 3D breaklines to generate 2-foot and/or 4/5-foot contours. The average post spacing between LiDAR points is 7-feet. The flying altitude was 7,300-feet AMT, with the targeted flying speed at 170 knots.
Single Fused Map Cache: false
Extent:
XMin: 1310000.0
YMin: 145000.0
XMax: 2520507.5
YMax: 1462300.0
Spatial Reference: 3754
(3754)
LatestVCSWkid(0)
Initial Extent:
XMin: 1310000.0
YMin: 145000.0
XMax: 2520507.5
YMax: 1462300.0
Spatial Reference: 3754
(3754)
LatestVCSWkid(0)
Full Extent:
XMin: 1310000.0
YMin: 145000.0
XMax: 2520507.5
YMax: 1462300.0
Spatial Reference: 3754
(3754)
LatestVCSWkid(0)
Pixel Size X: 2.5
Pixel Size Y: 2.5
Band Count: 1
Pixel Type: F32
RasterFunction Infos: {"rasterFunctionInfos": [{
"name": "None",
"description": "",
"help": ""
}]}
Mensuration Capabilities: Basic
Inspection Capabilities:
Has Histograms: true
Has Colormap: false
Has Multi Dimensions : false
Rendering Rule:
Min Scale: 0
Max Scale: 0
Copyright Text: This data set was acquired for the State of Ohio by Woolpert Inc. Subcontractors for LiDAR data acquisition included Horizons, Inc.
Service Data Type: esriImageServiceDataTypeGeneric
Min Values: -520.0599975585938
Max Values: 2231.949951171875
Mean Values: 918.2616172755887
Standard Deviation Values: 173.29354113999108
Object ID Field:
Fields:
None
Default Mosaic Method: Center
Allowed Mosaic Methods:
SortField:
SortValue: null
Mosaic Operator: First
Default Compression Quality: 75
Default Resampling Method: Bilinear
Max Record Count: null
Max Image Height: 4100
Max Image Width: 15000
Max Download Image Count: null
Max Mosaic Image Count: null
Allow Raster Function: true
Allow Copy: true
Allow Analysis: true
Allow Compute TiePoints: false
Supports Statistics: false
Supports Advanced Queries: false
Use StandardizedQueries: true
Raster Type Infos:
Name: Raster Dataset
Description: Supports all ArcGIS Raster Datasets
Help:
Has Raster Attribute Table: false
Edit Fields Info: null
Ownership Based AccessControl For Rasters: null
Child Resources:
Info
Histograms
Statistics
Key Properties
Legend
Raster Function Infos
Supported Operations:
Export Image
Identify
Measure
Compute Histograms
Compute Statistics Histograms
Get Samples
Compute Class Statistics
Query Boundary
Compute Pixel Location
Compute Angles
Validate
Project